BEGIN:VCALENDAR
VERSION:2.0
PRODID:-//WJCS 89.3 FM - ECPv6.15.20//NONSGML v1.0//EN
CALSCALE:GREGORIAN
METHOD:PUBLISH
X-ORIGINAL-URL:https://www.wjcs.org
X-WR-CALDESC:Events for WJCS 89.3 FM
REFRESH-INTERVAL;VALUE=DURATION:PT1H
X-Robots-Tag:noindex
X-PUBLISHED-TTL:PT1H
BEGIN:VTIMEZONE
TZID:America/New_York
BEGIN:DAYLIGHT
TZOFFSETFROM:-0500
TZOFFSETTO:-0400
TZNAME:EDT
DTSTART:20240310T070000
END:DAYLIGHT
BEGIN:STANDARD
TZOFFSETFROM:-0400
TZOFFSETTO:-0500
TZNAME:EST
DTSTART:20241103T060000
END:STANDARD
BEGIN:DAYLIGHT
TZOFFSETFROM:-0500
TZOFFSETTO:-0400
TZNAME:EDT
DTSTART:20250309T070000
END:DAYLIGHT
BEGIN:STANDARD
TZOFFSETFROM:-0400
TZOFFSETTO:-0500
TZNAME:EST
DTSTART:20251102T060000
END:STANDARD
BEGIN:DAYLIGHT
TZOFFSETFROM:-0500
TZOFFSETTO:-0400
TZNAME:EDT
DTSTART:20260308T070000
END:DAYLIGHT
BEGIN:STANDARD
TZOFFSETFROM:-0400
TZOFFSETTO:-0500
TZNAME:EST
DTSTART:20261101T060000
END:STANDARD
BEGIN:DAYLIGHT
TZOFFSETFROM:-0500
TZOFFSETTO:-0400
TZNAME:EDT
DTSTART:20270314T070000
END:DAYLIGHT
BEGIN:STANDARD
TZOFFSETFROM:-0400
TZOFFSETTO:-0500
TZNAME:EST
DTSTART:20271107T060000
END:STANDARD
END:VTIMEZONE
BEGIN:VEVENT
DTSTART;TZID=America/New_York:20251108T080000
DTEND;TZID=America/New_York:20261212T170000
DTSTAMP:20260420T170158
CREATED:20251022T205526Z
LAST-MODIFIED:20251022T205722Z
UID:8984-1762588800-1797094800@www.wjcs.org
SUMMARY:Journey Back to 1776 — Join Our Historic Bus Tour from Easton to Philadelphia!
DESCRIPTION:Starting next month! Join the Northampton County Historical & Genealogical Society for a new bus tour: \nIn Search of the Declaration:\nA Historic Bus Tour of Easton\, Trenton\, & Philadelphia. \nStep back in time to July 8\, 1776\, when the Declaration of Independence was read aloud\, simultaneously\, in Easton\, Trenton\, and Philadelphia —a bold and dangerous act of treason against the King of England. \nWhere You will Explore\n\n\n\n\nBehind-the-scenes tour of the Sigal Museum’s Read This! The History of Media in Northampton County exhibition.\nWalk in Washington’s footsteps on a private tour of Washington Crossing Historic Park.\nExclusive visit to The 1719 William Trent House to explore the tension created by divided loyalties.\nDiscover the rich history of the Founding Fathers at Christ Church and burial grounds in Philadelphia.\n\nWhat You’ll Experience\n\nTravel by comfortable tour bus to the three\, historic cities the Declaration of Independence was read.\nExplore with our two\, friendly tour guides\, offering insight and stories at every destination.\nThree-course\, private lunch at the Washington Crossing Inn.\nBonus: Also included are passes to revisit the Sigal Museum and explore the 1753 Bachmann Publick House at your leisure.\nAdd on: Craft activities for accompanying children.\n\nDates\, Pricing & Practical Details\n\nTours are the Second Saturday of every month (November 2025 – December 2026).\nTour time is 9 a.m. to 6 p.m.\nPricing: NCHGS Members: $200 & Non-members: $250.\nAccessibility note: Due to the historic nature of the stops\, some sites may not be fully ADA accessible. The tour involves walking and standing indoors and outdoors.\n\nWhy You Should Join\n\nThis new tour is the perfect way to commemorate our Nation’s 250th birthday in 2026.\nDelve into living history and walk the same path where Americans first heard the words of nationhood read aloud.\nEnjoy private\, behind-the-scenes access you can’t get on typical sightseeing tours.\nCombine local and national history — from Sigal Museum’s regional focus to Philadelphia’s national significance.\nGreat as a gift or special outing for history lovers\, students\, civic groups\, and curious travelers.\n\nBook Your Ticket \n\nReserve your seat today via the link below or contact us.\nSpaces are limited.\nIf you have questions\, want group rates\, or need help with membership pricing\, please contact our Community Engagement Associate\, Emma Hartman at emma@northamptonctymuseum.org or (610) 253-1222.\n\nWe hope you’ll join us for a fun tour of discovery\, reflection\, and historic adventure! \nWarm regards\, \nMegan van Ravenswaay \nNCHGS Executive Director\n\n\n\n\n\n\n\n\n\n\n\n\n\n\n\n\n\n\nBook Tickets Now\n\n\n\n\n\n\n\n\n\n\n\n\n\n\n\n\nContact Emma\n\n\n\n\n\n\n\n\n\n\n\n\n\n\n\n\n\n\n\n\n\n\nNCHGS members enjoy a discounted rate. Need to renew or become a member? e\n\n\n\n\n\n\n\n\n\nThis tour is a partner of Lehigh Valley 250\, a regional collaboration of local art\, historical\, and cultural sites. am\n\n\n\n\n\n\n\n\n\n\n\n\n\n\n\n\n\n\n\n\n\n\nBecome or Renew Membership\n\n\n\n\n\n\n\n\n\n\n\n\n\n\n\n\nMore about Lehigh Valley 250\n\n\n\n\n\n\n\n\n\n\n\n\n\n\n\n\n\n\nThis tour is funded in part from the County of Northampton’s Gaming Community Planning Program through the Department of Community & Economic Development.
URL:https://www.wjcs.org/event/journey-back-to-1776-join-our-historic-bus-tour-from-easton-to-philadelphia/
LOCATION:Northampton County Historical & Genealogical Society\, 342 Northampton Street\, Easton\, PA\, 18042\, United States
ORGANIZER;CN="Northampton County Historical & Genealogical Society":MAILTO:info@northamptonctymuseum.org
END:VEVENT
BEGIN:VEVENT
DTSTART;TZID=America/New_York:20260202T160000
DTEND;TZID=America/New_York:20260206T163000
DTSTAMP:20260420T170158
CREATED:20260126T173016Z
LAST-MODIFIED:20260126T173016Z
UID:9214-1770048000-1770395400@www.wjcs.org
SUMMARY:"The Gospel for Busy People" Next Week on A New Beginning With Greg Laurie on WJCS Radio 89.3 FM\, Monday\, Feb 2 to Friday\, Feb 6 at 4:00 PM
DESCRIPTION:Monday\, February 2\, 2026 \nThe Gospel for Busy People \n\n\n\n\n\n\n\n\n\n\n\n\n\n\n\nWe live in a fast-paced\, frenetic culture. How can we communicate the Good News of the Gospel in the midst of the commotion? Monday on A NEW BEGINNING\, Pastor Greg Laurie answers that question. It’s the launch of his new series\, The Gospel for Busy People. Tune in for an important study\, Monday at 4:00 PM on WJCS Radio 89.3 FM.\n\n\n\n\n\n\n\n\n\n\n\n\n\n\n\nTuesday\, February 3\, 2026 \nThe Gospel for Busy People \n\n\n\n\n\n\n\n\n\n\n\n\n\n\n\nIt was an epic moment when Jesus — God incarnate — came face to face with Satan. And Satan brazenly tried to tempt God\, the Son! Tuesday on A NEW BEGINNING\, Pastor Greg Laurie points out the lessons we can learn from that confrontation. We’ll learn how to resist temptation ourselves\, Tuesday at 4:00 PM on WJCS Radio 89.3 FM.\n\n\n\n\n\n\n\n\n\n\n\n\n\n\n\nWednesday\, February 4\, 2026 \nFollow Me \n\n\n\n\n\n\n\n\n\n\n\n\n\n\n\nJesus chose 12 of the most ordinary men of His day to be His disciples. Pastor Greg Laurie says they were “remarkably unremarkable.” But they all heeded the Lord’s call to follow Him. Wednesday on A NEW BEGINNING\, we’ll see the importance of following their example. Studies in the Gospel of Mark\, Wednesday at 4:00 PM on WJCS Radio 89.3 FM.\n\n\n\n\n\n\n\n\n\n\n\n\n\n\n\nThursday\, February 5\, 2026 \nFollow Me \n\n\n\n\n\n\n\n\n\n\n\n\n\n\n\nJust two words. But those two words from Jesus changed the lives of 12 men\, and ultimately changed the world! Thursday on A NEW BEGINNING\, Pastor Greg Laurie helps us consider how Jesus chose His disciples and said\, simply\, “Follow Me.” Important insight coming Thursday at 4:00 PM on WJCS Radio 89.3 FM.\n\n\n\n\n\n\n\n\n\n\n\n\n\n\n\nFriday\, February 6\, 2026 \nA New Kind of Family \n\n\n\n\n\n\n\n\n\n\n\n\n\n\n\nAs believers\, God welcomes us into His family. But oftentimes\, our earthly family doesn’t want to hear about our faith\, or our “other” family. Friday on A NEW BEGINNING\, Pastor Greg Laurie offers insight into the family dynamics that follow…when WE follow the Lord. Tune in Friday at 4:00 PM on WJCS Radio 89.3 FM.\n\n\n\n\n\n\n\n\n\n\n\n\n\n\n\n\n\n\n\n\n\n\n\n\nCONTACT INFORMATION: \n\n\n\n\n\n\n\n\n\n\n\n\n\n\n\n\n\nFor Listeners:\n\n\n\n\n\n\n\n\n\n\n\nA NEW BEGINNING\nP.O. Box 4000\nRiverside\, CA 92514\n(800) 821-3300\nwww.harvest.org\n\n\n\n\n\n\n\n\n\n\n\n\n\n\n\n\n\n\n\n\n\n\n\n\n\n\n\n\n\n\n\n\n\n\n\nCONNECT WITH PASTOR GREG\n\n\n\n\n\n\n\n\n\n\n\n\n\n\n\n\n            \n\n\n\n\n\n\n\n\n\n\n\n\n\n\n\n\n\n\nClick for more information on Pastor Greg
URL:https://www.wjcs.org/event/the-gospel-for-busy-people-next-week-on-a-new-beginning-with-greg-laurie-on-wjcs-radio-89-3-fm-monday-feb-2-to-friday-feb-6-at-400-pm/
LOCATION:WJCS Radio\, 300 East Rock Road\, Allentown\, PA\, 18103\, United States
ORGANIZER;CN="WJCS Radio":MAILTO:wjcsradio@gmail.com
END:VEVENT
BEGIN:VEVENT
DTSTART;TZID=America/New_York:20260202T220000
DTEND;TZID=America/New_York:20260206T223000
DTSTAMP:20260420T170158
CREATED:20260202T192446Z
LAST-MODIFIED:20260202T192446Z
UID:9232-1770069600-1770417000@www.wjcs.org
SUMMARY:"Spurgeon’s Greatest Comfort" This Week on Haven Today With David Wollen on WJCS Radio 89.3 FM Monday\, Feb 2 to Friday\, Feb 6 at 10:00 PM
DESCRIPTION:On-Air the Week of February 2-6 \n\n\n\n\n\n\n\n\n\n\n\n\nHe was known for his bold preaching and love for the Gospel. But he was also open about his physical and emotional suffering. So how was Charles Spurgeon able to keep his eyes on Jesus? Join David Wollen for an encouraging Haven Today series with Dr. Geoffrey Chang called “Spurgeon’s Greatest Comfort.”
URL:https://www.wjcs.org/event/spurgeons-greatest-comfort-this-week-on-haven-today-with-david-wollen-on-wjcs-radio-89-3-fm-monday-feb-2-to-friday-feb-6-at-1000-pm/
LOCATION:WJCS Radio\, 300 East Rock Road\, Allentown\, PA\, 18103\, United States
ORGANIZER;CN="WJCS Radio":MAILTO:wjcsradio@gmail.com
END:VEVENT
BEGIN:VEVENT
DTSTART;TZID=America/New_York:20260205T120000
DTEND;TZID=America/New_York:20260205T180000
DTSTAMP:20260420T170158
CREATED:20260122T232523Z
LAST-MODIFIED:20260122T232523Z
UID:9204-1770292800-1770314400@www.wjcs.org
SUMMARY:Christ's Church at Lowhill Will be Having a Fundraiser on Thursday\, February 5th\, From Noon to 6 PM Featuring Cheesesteaks & Baked Goods!
DESCRIPTION:
URL:https://www.wjcs.org/event/christs-church-at-lowhill-will-be-having-a-fundraiser-on-thursday-february-5th-from-noon-to-6-pm-featuring-cheesesteaks-baked-goods/
LOCATION:Christ’s Church at Lowhill\, 4695 Lowhill Church Road\, New Tripoli\, PA\, 18360\, United States
ORGANIZER;CN="Christ's Church at Lowhill":MAILTO:sarah@christschurchatlowhill.org
END:VEVENT
BEGIN:VEVENT
DTSTART;TZID=America/New_York:20260209T220000
DTEND;TZID=America/New_York:20260213T223000
DTSTAMP:20260420T170158
CREATED:20260206T195248Z
LAST-MODIFIED:20260206T195248Z
UID:9248-1770674400-1771021800@www.wjcs.org
SUMMARY:"Our Only Comfort in Life and Death" Next Week on Haven Today With David Wollen on WJCS Radio 89.3 FM\, Monday\, Feb 9th to Friday\, Feb 13th at 10:00 PM
DESCRIPTION:On-Air the Week of February 9-13 \n\n\n\n\n\n\n\n\n\n\n\n\nThe world is full of comforts\, many of them good things God created for us to enjoy. But there is only one great comfort with the load-bearing strength to see us through this life and into the next. Join David Wollen on a Haven Today series called “Our Only Comfort in Life and Death.”
URL:https://www.wjcs.org/event/our-only-comfort-in-life-and-death-next-week-on-haven-today-with-david-wollen-on-wjcs-radio-89-3-fm-monday-feb-9th-to-friday-feb-13th-at-1000-pm/
LOCATION:WJCS Radio\, 300 East Rock Road\, Allentown\, PA\, 18103\, United States
ORGANIZER;CN="WJCS Radio":MAILTO:wjcsradio@gmail.com
END:VEVENT
BEGIN:VEVENT
DTSTART;TZID=America/New_York:20260216T220000
DTEND;TZID=America/New_York:20260220T223000
DTSTAMP:20260420T170158
CREATED:20260215T224649Z
LAST-MODIFIED:20260215T224649Z
UID:9263-1771279200-1771626600@www.wjcs.org
SUMMARY:"Why Progressive Is not Progress!" This Week on Haven Today With David Wollen\, Monday\, Feb 16th to Friday\, Feb 20th at 10:00 PM on WJCS Radio 89.3 FM
DESCRIPTION:On-Air the Week of February 16-20 \n\n\n\n\n\n\n\n\n\n\n\n\nWhat is truth? Pontius Pilate asked this question. And so do many walking away from Christianity today. All the more reason to preach Christ and Him crucified. Join David Wollen for a relevant series on Haven Today called “Why ‘Progressive’ is Not Progress.”
URL:https://www.wjcs.org/event/why-progressive-is-not-progress-this-week-on-haven-today-with-david-wollen-monday-feb-16th-to-friday-feb-20th-at-1000-pm-on-wjcs-radio-89-3-fm/
LOCATION:WJCS Radio\, 300 East Rock Road\, Allentown\, PA\, 18103\, United States
ORGANIZER;CN="WJCS Radio":MAILTO:wjcsradio@gmail.com
END:VEVENT
BEGIN:VEVENT
DTSTART;TZID=America/New_York:20260221T180000
DTEND;TZID=America/New_York:20260221T200000
DTSTAMP:20260420T170158
CREATED:20260120T004550Z
LAST-MODIFIED:20260120T004550Z
UID:9200-1771696800-1771704000@www.wjcs.org
SUMMARY:"Come and See What God Has Done" at Beit Simcha" Saturday\, February 21st at 6:00 PM at 1111 Grange Road Wescosville\, PA
DESCRIPTION:
URL:https://www.wjcs.org/event/come-and-see-what-god-has-done-at-beit-simcha-saturday-february-21st-at-600-pm-at-1111-grange-road-wescosville-pa/
LOCATION:Beit Simcha\, 1111 Grange Road\, Wescosville\, PA\, 18106\, United States
END:VEVENT
BEGIN:VEVENT
DTSTART;TZID=America/New_York:20260222T130000
DTEND;TZID=America/New_York:20260222T160000
DTSTAMP:20260420T170158
CREATED:20260203T153656Z
LAST-MODIFIED:20260203T153909Z
UID:9234-1771765200-1771776000@www.wjcs.org
SUMMARY:The Moravian Historical Society has a Special Exhibition Opening on February 22\, 2026 with Talk and Reception
DESCRIPTION:Special Exhibition Opening on February 22\, 2026 with Talk and Reception \n\nScott Paul Gordon\, professor at Lehigh University\, will speak about the Moravians’ experiences during the American Revolution.\nThe exhibition includes original drawings by artist Bob McLeod.\n\n\n\n\n\n\n\n\n\n\n\n\n\n\n\n\n\n\n\n\n\n\n\n\n\n\n\n\n\n\n\n\n\n\n\n\n\n\n\nContact: Susan Ellis\, Executive Director \nEmail: sellis@moravianhistory.org | Phone: 610-759-5070 | Web: www.moravianhistory.org\n\n\n\n\n\n\n\n\n\n\n\n\n\n\n\n\n\n\n\n\n\n\n\n\n\n\n\n\n\n\n\n\n\n\n\n\n\n\n\n\n\n\n\n\n\n\n\n\n\n\n\n\n\n\n\n\n\nNazareth\, PA—The Moravian Historical Society announces the opening of a new special exhibition\, Moravians & The Revolution: Caught in the Crossfire\, on Sunday\, February 22\, 2026. The event begins at 1:00 p.m. with a talk by Dr. Scott Paul Gordon\, followed by a reception for the exhibition from 2:00 to 4:00 p.m. \nMoravians & The Revolution: Caught in the Crossfire paints a picture of a pacifist community that found itself in a conflict that would ultimately transform its way of life. Moravians in Pennsylvania had to walk a delicate balancing act between their religious ideals of pacifism and the interests of American patriots\, the British government\, and Indigenous groups in the region. The Revolutionary War tested their desire for freedom from entanglements with the outside world. \nDrawing from first-hand accounts in the Nazareth\, Emmaus\, and Bethlehem Diaries\, Curator Andy McLeod realized the Moravians were caught in the crossfire of this conflict. McLeod remarked\, “The Moravians hadn’t been strictly pacifist since before the French and Indian War\, but Church leadership still wanted to maintain peace within their community as best they could and avoid choosing a side in political conflicts. Unfortunately\, the war had other plans.” \nThese stories are further brought to life through original artwork created by Bob McLeod\, who is best known for co-creating and illustrating The New Mutants for Marvel Comics. He began his career with Marvel’s Crazy Magazine and has pencilled or inked all the major characters for Marvel and DC\, including Spider-Man\, The X-Men\, Superman\, Batman\, Wonder Woman\, GI Joe\, Star Wars\, and many more. McLeod also wrote and illustrated Superhero ABC\, published by HarperCollins and edited Twomorrows’ Rough Stuff magazine. \nScott Gordon will give the opening talk\, providing insights into the pacifist Moravian community during the time of the Revolutionary War. Dr. Gordon is a professor and the Andrew W. Mellon Chair at Lehigh University. \nSeating in the Museum is limited\, and advanced reservations are required for the talk. Tickets are $12 ($6 for MHS members and free for students with ID) and can be purchased by visiting www.moravianhistory.org/music-and-lectures. The reception is free to attend. \nMoravians & The Revolution: Caught in the Crossfire will be on view from February 22\, 2026\, through January 17\, 2027. The talk and exhibition are supported\, in part\, with funding from the Hotel Tax Grant Program through the County of Northampton Department of Community & Economic Development. \nFounded in 1857\, the Moravian Historical Society (MHS) preserves\, interprets\, and celebrates the rich culture of the Moravians. MHS maintains the 1740–1743 Whitefield House and the 1740 Gray Cottage\, the oldest surviving Moravian structure in North America. Recognized widely for its significant collection\, ​the museum offers permanent and changing exhibitions\, educational programs\, guided tours\, and public activities. \nThe Moravian Historical Society’s Museum is open daily from 1:00 to 4:00 p.m. and is located at 214 East Center Street\, Nazareth\, Pennsylvania.\n\n\n\n\n\n\n\n\n\n\n\n\n\n\n\n\n\n\n\n\n\n\n\n\n\n\n\nDownload the press release\n\n\n\n\n\n\n\n\n\n\n\n\n\n\n\n\n\n\n\n\n\n\n\n\n\n\n\n\n\n\n\n\n\n\n\n\n\n\n\n\n\n\n\n\n\n\n\n\n\n\n\n\n\nThis event is supported in part by the Northampton County Department of Community and Economic Development with funds through the Hotel Tax Grant.\n\n\n\n\n\n\n\n\n\n\n\n\n\n\n\n\n\n\n\n\n\n\n\n\n\n\n\n\n\n\n\n\n\n\n\n\n\n\n\n\n\nThe Moravian Historical Society is a proud member of:
URL:https://www.wjcs.org/event/the-moravian-historical-society-has-a-special-exhibition-opening-on-february-22-2026-with-talk-and-reception/
LOCATION:Moravian Historical Society\, 214 E Center Street\, Nazareth\, PA\, 18064\, United States
ORGANIZER;CN="Moravian Historical Society":MAILTO:info@moravianhistory.org
END:VEVENT
BEGIN:VEVENT
DTSTART;TZID=America/New_York:20260228T130000
DTEND;TZID=America/New_York:20260228T163000
DTSTAMP:20260420T170158
CREATED:20260119T212742Z
LAST-MODIFIED:20260222T023448Z
UID:9195-1772283600-1772296200@www.wjcs.org
SUMMARY:Don Sunshine is at Fellowship Community in Zentz Hall for "Make A Difference on Saturday\, February 28th From 1:00 to 4:30 PM
DESCRIPTION:I am excited to be coming to the Fellowship Community on Saturday\, February 28th\, for another Make a Difference Live event! The points that I’m going to cover are: \n\nHow do I recognize the opportunities God gives me every day to share my faith\, but I miss them\nWhat does it mean to be an Ambassador for Christ\nWhat are the fears that keep me from telling people about Jesus\, and how do I defeat those fears\nWhat does it look like when a door opens for me to share\, and what do I do and say\n\nThere will be no role-playing or group practice. All you need to do is fill in the blanks on the provided handout and put the simple things I teach into practice. I hope to see you then! \nFriends\,We’re excited to share that Evangelist Don Sunshine will be presenting his Make a Difference event — a powerful session designed to help us recognize the everyday opportunities God gives us to share our faith. Too often\, we miss those moments\, and Don will equip us to become more confident and effective Ambassadors for Christ. \nWe invite you to join us on Saturday\, February 28\, as we learn how to become a more intentional witness in our daily lives. Bring a friend\, coworker\, or family member along – they’ll be glad you did! \nThe M.A.D. Live Event \n??? DATE: Saturday\, February 28 \n?? TIME: 1:00 – 4:30 PM EST \n?? LOCATION: Fellowship Community \nBecause this is an afternoon event\, attendees within a 3-4 hour drive can easily travel in for the 1 PM start. \nVisit donsunshine.org for more details. \nAnd if you have any questions\, contact Steve anytime. \nSteve Leaser \nOffice: 610.954.7399 \nCell: 610.597.0090 \n 
URL:https://www.wjcs.org/event/don-sunshine-is-at-fellowship-community-in-zentz-hall-for-make-a-difference-on-saturday-february-28th-from-100-to-430-pm/
LOCATION:Fellowship Community\, 3000 Fellowship Drive\, Whitehall\, PA\, 18052\, United States
ORGANIZER;CN="Don Sunshine":MAILTO:don@donsunshine.org
END:VEVENT
END:VCALENDAR