BEGIN:VCALENDAR
VERSION:2.0
PRODID:-//WJCS 89.3 FM - ECPv6.15.20//NONSGML v1.0//EN
CALSCALE:GREGORIAN
METHOD:PUBLISH
X-WR-CALNAME:WJCS 89.3 FM
X-ORIGINAL-URL:https://www.wjcs.org
X-WR-CALDESC:Events for WJCS 89.3 FM
REFRESH-INTERVAL;VALUE=DURATION:PT1H
X-Robots-Tag:noindex
X-PUBLISHED-TTL:PT1H
BEGIN:VTIMEZONE
TZID:America/New_York
BEGIN:DAYLIGHT
TZOFFSETFROM:-0500
TZOFFSETTO:-0400
TZNAME:EDT
DTSTART:20240310T070000
END:DAYLIGHT
BEGIN:STANDARD
TZOFFSETFROM:-0400
TZOFFSETTO:-0500
TZNAME:EST
DTSTART:20241103T060000
END:STANDARD
BEGIN:DAYLIGHT
TZOFFSETFROM:-0500
TZOFFSETTO:-0400
TZNAME:EDT
DTSTART:20250309T070000
END:DAYLIGHT
BEGIN:STANDARD
TZOFFSETFROM:-0400
TZOFFSETTO:-0500
TZNAME:EST
DTSTART:20251102T060000
END:STANDARD
BEGIN:DAYLIGHT
TZOFFSETFROM:-0500
TZOFFSETTO:-0400
TZNAME:EDT
DTSTART:20260308T070000
END:DAYLIGHT
BEGIN:STANDARD
TZOFFSETFROM:-0400
TZOFFSETTO:-0500
TZNAME:EST
DTSTART:20261101T060000
END:STANDARD
BEGIN:DAYLIGHT
TZOFFSETFROM:-0500
TZOFFSETTO:-0400
TZNAME:EDT
DTSTART:20270314T070000
END:DAYLIGHT
BEGIN:STANDARD
TZOFFSETFROM:-0400
TZOFFSETTO:-0500
TZNAME:EST
DTSTART:20271107T060000
END:STANDARD
END:VTIMEZONE
BEGIN:VEVENT
DTSTART;TZID=America/New_York:20251108T080000
DTEND;TZID=America/New_York:20261212T170000
DTSTAMP:20260422T132645
CREATED:20251022T205526Z
LAST-MODIFIED:20251022T205722Z
UID:8984-1762588800-1797094800@www.wjcs.org
SUMMARY:Journey Back to 1776 — Join Our Historic Bus Tour from Easton to Philadelphia!
DESCRIPTION:Starting next month! Join the Northampton County Historical & Genealogical Society for a new bus tour: \nIn Search of the Declaration:\nA Historic Bus Tour of Easton\, Trenton\, & Philadelphia. \nStep back in time to July 8\, 1776\, when the Declaration of Independence was read aloud\, simultaneously\, in Easton\, Trenton\, and Philadelphia —a bold and dangerous act of treason against the King of England. \nWhere You will Explore\n\n\n\n\nBehind-the-scenes tour of the Sigal Museum’s Read This! The History of Media in Northampton County exhibition.\nWalk in Washington’s footsteps on a private tour of Washington Crossing Historic Park.\nExclusive visit to The 1719 William Trent House to explore the tension created by divided loyalties.\nDiscover the rich history of the Founding Fathers at Christ Church and burial grounds in Philadelphia.\n\nWhat You’ll Experience\n\nTravel by comfortable tour bus to the three\, historic cities the Declaration of Independence was read.\nExplore with our two\, friendly tour guides\, offering insight and stories at every destination.\nThree-course\, private lunch at the Washington Crossing Inn.\nBonus: Also included are passes to revisit the Sigal Museum and explore the 1753 Bachmann Publick House at your leisure.\nAdd on: Craft activities for accompanying children.\n\nDates\, Pricing & Practical Details\n\nTours are the Second Saturday of every month (November 2025 – December 2026).\nTour time is 9 a.m. to 6 p.m.\nPricing: NCHGS Members: $200 & Non-members: $250.\nAccessibility note: Due to the historic nature of the stops\, some sites may not be fully ADA accessible. The tour involves walking and standing indoors and outdoors.\n\nWhy You Should Join\n\nThis new tour is the perfect way to commemorate our Nation’s 250th birthday in 2026.\nDelve into living history and walk the same path where Americans first heard the words of nationhood read aloud.\nEnjoy private\, behind-the-scenes access you can’t get on typical sightseeing tours.\nCombine local and national history — from Sigal Museum’s regional focus to Philadelphia’s national significance.\nGreat as a gift or special outing for history lovers\, students\, civic groups\, and curious travelers.\n\nBook Your Ticket \n\nReserve your seat today via the link below or contact us.\nSpaces are limited.\nIf you have questions\, want group rates\, or need help with membership pricing\, please contact our Community Engagement Associate\, Emma Hartman at emma@northamptonctymuseum.org or (610) 253-1222.\n\nWe hope you’ll join us for a fun tour of discovery\, reflection\, and historic adventure! \nWarm regards\, \nMegan van Ravenswaay \nNCHGS Executive Director\n\n\n\n\n\n\n\n\n\n\n\n\n\n\n\n\n\n\nBook Tickets Now\n\n\n\n\n\n\n\n\n\n\n\n\n\n\n\n\nContact Emma\n\n\n\n\n\n\n\n\n\n\n\n\n\n\n\n\n\n\n\n\n\n\nNCHGS members enjoy a discounted rate. Need to renew or become a member? e\n\n\n\n\n\n\n\n\n\nThis tour is a partner of Lehigh Valley 250\, a regional collaboration of local art\, historical\, and cultural sites. am\n\n\n\n\n\n\n\n\n\n\n\n\n\n\n\n\n\n\n\n\n\n\nBecome or Renew Membership\n\n\n\n\n\n\n\n\n\n\n\n\n\n\n\n\nMore about Lehigh Valley 250\n\n\n\n\n\n\n\n\n\n\n\n\n\n\n\n\n\n\nThis tour is funded in part from the County of Northampton’s Gaming Community Planning Program through the Department of Community & Economic Development.
URL:https://www.wjcs.org/event/journey-back-to-1776-join-our-historic-bus-tour-from-easton-to-philadelphia/
LOCATION:Northampton County Historical & Genealogical Society\, 342 Northampton Street\, Easton\, PA\, 18042\, United States
ORGANIZER;CN="Northampton County Historical & Genealogical Society":MAILTO:info@northamptonctymuseum.org
END:VEVENT
BEGIN:VEVENT
DTSTART;TZID=America/New_York:20260112T160000
DTEND;TZID=America/New_York:20260116T163000
DTSTAMP:20260422T132645
CREATED:20260106T205628Z
LAST-MODIFIED:20260106T205628Z
UID:9177-1768233600-1768581000@www.wjcs.org
SUMMARY:" A Hell of a Message" Next Week on A New Beginning With Greg Laurie\, Monday 1/12 to Friday 1/16 at 4:00 PM on WJCS Radio 89.3 FM
DESCRIPTION:Monday\, January 12\, 2026 \nA Hell of a Message \n\n\n\n\n\n\n\n\n\n\n\n\n\n\n\nIt’s a word often avoided in polite company\, but it represents a truth that can’t be ignored. Monday on A NEW BEGINNING\, Pastor Greg Laurie reacquaints us with the reality of hell. It’s a candid discussion of the judgment that awaits unbelievers. Important insight coming Monday at 4:00 PM on WJCS Radio 89.3 FM.\n\n\n\n\n\n\n\n\n\n\n\n\n\n\n\n\n\n\n\n\n\n\n\n\n\n\n\n\n\n\n\n\n\n\n\n\n\n\nTuesday\, January 13\, 2026 \nAngels and Demons \n\n\n\n\n\n\n\n\n\n\n\n\n\n\n\nAre angels real\, or just an invention of Hollywood? Pastor Greg Laurie says the answer may surprise you! Tuesday on A NEW BEGINNING\, Pastor Greg Laurie shows us God’s plan for angels in the lives of believers. Fascinating insight\, Tuesday at 4:00 PM. Tune in for A NEW BEGINNING on WJCS Radio 89.3 FM.\n\n\n\n\n\n\n\n\n\n\n\n\n\n\n\nWednesday\, January 14\, 2026 \nAngels and Demons \n\n\n\n\n\n\n\n\n\n\n\n\n\n\n\nPastor Greg Laurie says our adversary lures us into sin … and just when we’ve taken the bait\, he condemns us for what we’ve done! Wednesday on A NEW BEGINNING\, important counsel on how to resist the Devil and his forces. Tune in for a message called “Angels and Demons\,” Wednesday at 4:00 PM on WJCS Radio 89.3 FM.\n\n\n\n\n\n\n\n\n\n\n\n\n\n\n\nThursday\, January 15\, 2026 \nGetting Through the Storms of Life \n\n\n\n\n\n\n\n\n\n\n\n\n\n\n\nPastor Greg Laurie points out there’s an overabundance of things to be worried about every day … from health concerns to crime to global war. But Thursday on A NEW BEGINNING\, he points out that we have one good reason NOT to worry. Find out what it is in one of Pastor Greg’s most requested studies\, Thursday at 4:00 PM on WJCS Radio 89.3 FM.\n\n\n\n\n\n\n\n\n\n\n\n\n\n\n\nFriday\, January 16\, 2026 \nGetting Through the Storms of Life \n\n\n\n\n\n\n\n\n\n\n\n\n\n\n\nStorms often blow into our lives. Pastor Greg Laurie says sometimes a storm is sent by God to correct us … to help us get back on the right track. Friday on A NEW BEGINNING\, we’ll see a case in point from the life of the prophet Jonah. It’s important insight coming your way\, Friday at 4:00 PM on WJCS Radio 89.3 FM.\n\n\n\n\n\n\n\n\n\n\n\n\n\n\n\n\n\n\n\n\n\n\n\n\nCONTACT INFORMATION: \n\n\n\n\n\n\n\n\n\n\n\n\n\n\n\n\n\nFor Listeners:\n\n\n\n\n\n\n\n\n\n\n\nA NEW BEGINNING\nP.O. Box 4000\nRiverside\, CA 92514\n(800) 821-3300\nwww.harvest.org\n\n\n\n\n\n\n\n\n\n\n\n\n\n\n\n\n\n\n\n\n\n\n\n\n\n\n\n\n\n\n\n\n\n\n\nCONNECT WITH PASTOR GREG\n\n\n\n\n\n\n\n\n\n\n\n\n\n\n\n\n            \n\n\n\n\n\n\n\n\n\n\n\n\n\n\n\n\n\n\nClick for more information on Pastor Greg
URL:https://www.wjcs.org/event/a-hell-of-a-message-next-week-on-a-new-beginning-with-greg-laurie-monday-1-12-to-friday-1-16-at-400-pm-on-wjcs-radio-89-3-fm/
LOCATION:WJCS Radio\, 300 East Rock Road\, Allentown\, PA\, 18103\, United States
ORGANIZER;CN="WJCS Radio":MAILTO:wjcsradio@gmail.com
END:VEVENT
END:VCALENDAR