BEGIN:VCALENDAR
VERSION:2.0
PRODID:-//WJCS 89.3 FM - ECPv6.15.20//NONSGML v1.0//EN
CALSCALE:GREGORIAN
METHOD:PUBLISH
X-ORIGINAL-URL:https://www.wjcs.org
X-WR-CALDESC:Events for WJCS 89.3 FM
REFRESH-INTERVAL;VALUE=DURATION:PT1H
X-Robots-Tag:noindex
X-PUBLISHED-TTL:PT1H
BEGIN:VTIMEZONE
TZID:America/New_York
BEGIN:DAYLIGHT
TZOFFSETFROM:-0500
TZOFFSETTO:-0400
TZNAME:EDT
DTSTART:20180311T070000
END:DAYLIGHT
BEGIN:STANDARD
TZOFFSETFROM:-0400
TZOFFSETTO:-0500
TZNAME:EST
DTSTART:20181104T060000
END:STANDARD
BEGIN:DAYLIGHT
TZOFFSETFROM:-0500
TZOFFSETTO:-0400
TZNAME:EDT
DTSTART:20190310T070000
END:DAYLIGHT
BEGIN:STANDARD
TZOFFSETFROM:-0400
TZOFFSETTO:-0500
TZNAME:EST
DTSTART:20191103T060000
END:STANDARD
BEGIN:DAYLIGHT
TZOFFSETFROM:-0500
TZOFFSETTO:-0400
TZNAME:EDT
DTSTART:20200308T070000
END:DAYLIGHT
BEGIN:STANDARD
TZOFFSETFROM:-0400
TZOFFSETTO:-0500
TZNAME:EST
DTSTART:20201101T060000
END:STANDARD
END:VTIMEZONE
BEGIN:VEVENT
DTSTART;TZID=America/New_York:20190411T110000
DTEND;TZID=America/New_York:20190530T130000
DTSTAMP:20260420T151051
CREATED:20190320T194726Z
LAST-MODIFIED:20190320T200802Z
UID:2665-1554980400-1559221200@www.wjcs.org
SUMMARY:Country Meadows Retirement Communities Lunches & Workshops
DESCRIPTION:Country Meadows Retirement Communities will be hosting the following complimentary Thursday lunches and workshops\, “The Power of a Pivot” beginning April 11 at 11:00 am\, with “The Sandwich Generation” as Session 1 and lunch is at 11:15 and the workshop at 12:00 noon. Seating is limited and RSVP at 610-395-7160 or by email at Allentown @CountryMeadows.comessionession  \nSession 2 on April 25 is “Caring for the Caregiver” \nSession 3 on May 9 is “Adopting to Change as you age”C \nSession 4 on May 30 is “Finding Joy is Age-less” \n 
URL:https://www.wjcs.org/event/country-meadows-retirement-communities-lunches-workshops/
LOCATION:Country Meadows Retirement Communities\, 460 N Krocks Road\, Allentown\, PA\, 18103\, United States
ORGANIZER;CN="Country Meadows Retirement Communities":MAILTO:AWright@countrymeadows.com
END:VEVENT
BEGIN:VEVENT
DTSTART;TZID=America/New_York:20190501T093000
DTEND;TZID=America/New_York:20190530T140000
DTSTAMP:20260420T151051
CREATED:20190423T201153Z
LAST-MODIFIED:20190423T201317Z
UID:3001-1556703000-1559224800@www.wjcs.org
SUMMARY:May Programs at Bethlehem Salvation Army
DESCRIPTION:The Salvation Army\, 521 Pembroke Road\, Bethlehem\, PA 18018\, offers the following programs for the month of May: Every Tuesday at 9:30 am – Bridge Players\, Every Wednesday at 9:30 am – Drop-in for Seniors\, 11:00 am – Bible Study for Adults\, Every Wednesday at 1:00 pm – Women’s Ministries as follows: May 1st – Speaker from Bright Hope – Jennifer Davies\, May 8th – Mother’s Day Tea Party\, May 15th – Dr Marlene May-Glass\, May 22nd – “A Virtuous Woman” – Laura Ortiz\, May 29th – “Color Me Healthy” – Tracie Leonard\, Saturday May 4th 9:00 am to 1:00 pm – Flea Market\, Benefits Seniors Every Thursday at 9:45 am – Tai Chi & Drop-in for Seniors\, Every Thursday at 10:45 am – May 2nd – National Day of Prayer\, May 9th – Mother’s Day Program\, May 16th – Bingo\, May 23rd – Eva Levitt – Holocaust Survivor\, May 30th – John Bauer – Music Entertainer \n 
URL:https://www.wjcs.org/event/may-programs-at-bethlehem-salvation-army/
LOCATION:The Bethlehem Salvation Army\, 521 Pembroke Road\, Bethlehem\, PA\, 18018\, United States
ORGANIZER;CN="The Bethlehem Salvation Army":MAILTO:jean.dlugose@use.salvationarmy.org
END:VEVENT
BEGIN:VEVENT
DTSTART;TZID=America/New_York:20190502T120000
DTEND;TZID=America/New_York:20190502T140000
DTSTAMP:20260420T151052
CREATED:20190412T224546Z
LAST-MODIFIED:20190412T224831Z
UID:2734-1556798400-1556805600@www.wjcs.org
SUMMARY:National Day of Prayer - "Love One Another" TOW Pray for Lehigh Valley
DESCRIPTION:Transform Our World (TOW) Pray for Lehigh Valley is again hosting The National Day of Prayer in Bethlehem\, PA on Thursday\, May 2nd\, from Noon to 2:00 pm. We will be meeting inside the Rotunda at City Hall\, at 10 E Church Street\, Bethlehem\, PA 18018. Join us as we will be praying for a breakthrough of LOVE for our nation! For questions and further details\, contact Gordon Okuley at 610-791-7262.
URL:https://www.wjcs.org/event/national-day-of-prayer-love-one-another-pray-for-lehigh-valley/
LOCATION:Bethlehem City Hall\, 10 E Church Street\, Bethlehem\, PA\, 18018\, United States
ORGANIZER;CN="TOW Pray for Lehigh Valley":MAILTO:gordonoak@gmail.com
END:VEVENT
BEGIN:VEVENT
DTSTART;TZID=America/New_York:20190502T190000
DTEND;TZID=America/New_York:20190502T200000
DTSTAMP:20260420T151052
CREATED:20190417T230638Z
LAST-MODIFIED:20190417T230638Z
UID:2994-1556823600-1556827200@www.wjcs.org
SUMMARY:Slatington National Day of Prayer - Community Prayer Service
DESCRIPTION:St John’s UCC\, 15 South 2nd Street\, Slatington\, PA 18080\, is hosting a National Day of Prayer\, Community Prayer Service on Thursday\, May 2\, 2019\, from 7:00 to 8:00 pm. For questions and further information\, contact Susan at 484-623-4184\, or email at spankysprinkler@gmail.com.S4
URL:https://www.wjcs.org/event/slatington-national-day-of-prayer-community-prayer-service/
LOCATION:15 South 2nd Street\, Slatington\, PA\, 18080\, United States
ORGANIZER;CN="St John's UCC Slatington":MAILTO:spankysprinkler@gmail.com
END:VEVENT
END:VCALENDAR