BEGIN:VCALENDAR
VERSION:2.0
PRODID:-//WJCS 89.3 FM - ECPv6.15.20//NONSGML v1.0//EN
CALSCALE:GREGORIAN
METHOD:PUBLISH
X-ORIGINAL-URL:https://www.wjcs.org
X-WR-CALDESC:Events for WJCS 89.3 FM
REFRESH-INTERVAL;VALUE=DURATION:PT1H
X-Robots-Tag:noindex
X-PUBLISHED-TTL:PT1H
BEGIN:VTIMEZONE
TZID:America/New_York
BEGIN:DAYLIGHT
TZOFFSETFROM:-0500
TZOFFSETTO:-0400
TZNAME:EDT
DTSTART:20180311T070000
END:DAYLIGHT
BEGIN:STANDARD
TZOFFSETFROM:-0400
TZOFFSETTO:-0500
TZNAME:EST
DTSTART:20181104T060000
END:STANDARD
BEGIN:DAYLIGHT
TZOFFSETFROM:-0500
TZOFFSETTO:-0400
TZNAME:EDT
DTSTART:20190310T070000
END:DAYLIGHT
BEGIN:STANDARD
TZOFFSETFROM:-0400
TZOFFSETTO:-0500
TZNAME:EST
DTSTART:20191103T060000
END:STANDARD
BEGIN:DAYLIGHT
TZOFFSETFROM:-0500
TZOFFSETTO:-0400
TZNAME:EDT
DTSTART:20200308T070000
END:DAYLIGHT
BEGIN:STANDARD
TZOFFSETFROM:-0400
TZOFFSETTO:-0500
TZNAME:EST
DTSTART:20201101T060000
END:STANDARD
END:VTIMEZONE
BEGIN:VEVENT
DTSTART;TZID=America/New_York:20190320T180000
DTEND;TZID=America/New_York:20190421T120000
DTSTAMP:20260422T000626
CREATED:20190311T201904Z
LAST-MODIFIED:20190311T201904Z
UID:2647-1553104800-1555848000@www.wjcs.org
SUMMARY:Jordan UCC - March & April Highlights
DESCRIPTION:Here’s the special events coming up in March & April at Jordan UCC. The church is located at 1837 Church Road\, Allentown\, PA 18104. Wednesday March 20 & 27 at 6:00 pm\, Lenten Meal with Devotions. Wednesday April 3 & 10 at 6:00 pm\, Lenten Meal with Devotions. The Holy Week Schedule is: Sunday\, April 14\, 8:00 & 10:30 am\,- Palm Sunday of the Passion\, Thursday\, April 18\, – Maundy (Holy) Thursday Pot Luck Supper in the Social Hall at 6:00 pm. Friday\, April 19\, – Good Friday Service – noon to 3:00 pm. Also at 7:00 pm. Saturday\, April 20\, – Holy Saturday – 1:00 pm Community Easter Egg Hunt. Sunday\, April 21 – Easter Sunday: The Resurrection of our Lord: 6:00 – Easter Dawn Service\, 6:45 Easter Dawn Breakfast – Social Hall\, 8:00 & 10:30 am Easter Communion Services
URL:https://www.wjcs.org/event/jordan-ucc-march-april-highlights/
LOCATION:Jordan UCC\, 1837 Church Road\, Allentown\, PA\, 18104\, United States
END:VEVENT
BEGIN:VEVENT
DTSTART;TZID=America/New_York:20190330T080000
DTEND;TZID=America/New_York:20190330T110000
DTSTAMP:20260422T000626
CREATED:20190321T221141Z
LAST-MODIFIED:20190321T221141Z
UID:2673-1553932800-1553943600@www.wjcs.org
SUMMARY:Join us for Breakfast! - Covenant Christian Academy of the Lehigh Valley
DESCRIPTION:Covenant Christian Academy invites you to join them for Breakfast on Saturdy March 30\, from 8:00 TO 11:00 am\, at Promised Land Church of the Nazarene\, located at 3982 Hecktown Road\, Bethlehem\, PA 18020. Menu includes pancakes of various kinds(including gluten free)\, eggs\, Bacon\, Sausage\, Fruit. Coffee\, Milk & Juice. Prices: Adults (age 11+0 – $7\, Children (ages 3-10) – $4\, Age 2 & under – Free. Call 610-868-7302 (CCA) or 610-759-7243 (Promised Land C of the Nazarene.
URL:https://www.wjcs.org/event/join-us-for-breakfast-covenant-christian-academy-of-the-lehigh-valley/
LOCATION:Promised Land Church of the Nazarene\, 3982 Hecktown Road\, Bethlehem\, PA\, 18020\, United States
END:VEVENT
BEGIN:VEVENT
DTSTART;TZID=America/New_York:20190330T090000
DTEND;TZID=America/New_York:20190330T130000
DTSTAMP:20260422T000626
CREATED:20190311T192738Z
LAST-MODIFIED:20190311T192738Z
UID:2645-1553936400-1553950800@www.wjcs.org
SUMMARY:Spring Songbird Public Workshop - Nockamixon State Park
DESCRIPTION:Nockamixon State Park is hosting a Spring Songbird Public Workshop on Sunday\, March 30th from 9:00 am to 1:00 pm. It will be held at the Nockamixon Education Center. The cost is $10 per individual (Cash or Check ONLY) All checks must be payable to “PPFF – Friends of Nockamixon State Park” Registrations due by by Wednesday\, March 27th – Spaces are limited. Questions? Email Rebekah at rsheeler@pa.gov.
URL:https://www.wjcs.org/event/spring-songbird-public-workshop-nockamixon-state-park/
LOCATION:Nockamixon State Park
ORGANIZER;CN="Nockamixon State Park":MAILTO:rsheeler@pa.gov
END:VEVENT
BEGIN:VEVENT
DTSTART;TZID=America/New_York:20190330T160000
DTEND;TZID=America/New_York:20190330T190000
DTSTAMP:20260422T000626
CREATED:20190312T220453Z
LAST-MODIFIED:20190312T220453Z
UID:2652-1553961600-1553972400@www.wjcs.org
SUMMARY:Family-style\, Roast Beef Dinner - St Paul's UCC\, Sellersville
DESCRIPTION:St Paul’s UCC\, is hosting a Family-style\, Roast Beef Dinner on Sturday\, March 30th from 4:00 to 7:00 pm. The church is located at 104 Green Street\, Sellersville\, PA 18960. The menu includes roast beef\, real mashed potatoes\, homemade pickled cabbage\, corn\, green beans\, rolls\, and homemade desserts. Cost is $12/adult\, $6/child ages 6 to 12\, under age 6 is free. For more information\, call the church at 215-257-7268.
URL:https://www.wjcs.org/event/family-style-roast-beef-dinner-st-pauls-ucc-sellersville/
LOCATION:St Pauls UCC\, 104 Green Street\, Sellersville\, PA\, 18960\, United States
END:VEVENT
END:VCALENDAR